BEGIN:VCALENDAR
VERSION:2.0
PRODID:-//FTC - ECPv6.15.17.1//NONSGML v1.0//EN
CALSCALE:GREGORIAN
METHOD:PUBLISH
X-WR-CALNAME:FTC
X-ORIGINAL-URL:https://frimleytennisclub.org
X-WR-CALDESC:Events for FTC
REFRESH-INTERVAL;VALUE=DURATION:PT1H
X-Robots-Tag:noindex
X-PUBLISHED-TTL:PT1H
BEGIN:VTIMEZONE
TZID:Europe/London
BEGIN:DAYLIGHT
TZOFFSETFROM:+0000
TZOFFSETTO:+0100
TZNAME:BST
DTSTART:20230326T010000
END:DAYLIGHT
BEGIN:STANDARD
TZOFFSETFROM:+0100
TZOFFSETTO:+0000
TZNAME:GMT
DTSTART:20231029T010000
END:STANDARD
BEGIN:DAYLIGHT
TZOFFSETFROM:+0000
TZOFFSETTO:+0100
TZNAME:BST
DTSTART:20240331T010000
END:DAYLIGHT
BEGIN:STANDARD
TZOFFSETFROM:+0100
TZOFFSETTO:+0000
TZNAME:GMT
DTSTART:20241027T010000
END:STANDARD
BEGIN:DAYLIGHT
TZOFFSETFROM:+0000
TZOFFSETTO:+0100
TZNAME:BST
DTSTART:20250330T010000
END:DAYLIGHT
BEGIN:STANDARD
TZOFFSETFROM:+0100
TZOFFSETTO:+0000
TZNAME:GMT
DTSTART:20251026T010000
END:STANDARD
BEGIN:DAYLIGHT
TZOFFSETFROM:+0000
TZOFFSETTO:+0100
TZNAME:BST
DTSTART:20260329T010000
END:DAYLIGHT
BEGIN:STANDARD
TZOFFSETFROM:+0100
TZOFFSETTO:+0000
TZNAME:GMT
DTSTART:20261025T010000
END:STANDARD
BEGIN:DAYLIGHT
TZOFFSETFROM:+0000
TZOFFSETTO:+0100
TZNAME:BST
DTSTART:20270328T010000
END:DAYLIGHT
BEGIN:STANDARD
TZOFFSETFROM:+0100
TZOFFSETTO:+0000
TZNAME:GMT
DTSTART:20271031T010000
END:STANDARD
END:VTIMEZONE
BEGIN:VEVENT
DTSTART;TZID=Europe/London:20240802T130000
DTEND;TZID=Europe/London:20240802T150000
DTSTAMP:20260421T094719
CREATED:20230514T235105Z
LAST-MODIFIED:20230514T235105Z
UID:14049-1722603600-1722610800@frimleytennisclub.org
SUMMARY:Social Mixed Tennis
DESCRIPTION:Open to all club members able to play mid-afternoon
URL:https://frimleytennisclub.org/calendar/social-mixed-tennis-2024-08-02/
LOCATION:Frimley Tennis Club\, Watchetts Recreation Ground\, Camberley\, Surrey\, GU15 2SR\, United Kingdom
ORGANIZER;CN="Iain Finnie":MAILTO:iain.finnie@googlemail.com
END:VEVENT
BEGIN:VEVENT
DTSTART;TZID=Europe/London:20240802T183000
DTEND;TZID=Europe/London:20240802T193000
DTSTAMP:20260421T094720
CREATED:20230914T053715Z
LAST-MODIFIED:20230914T053715Z
UID:14050-1722623400-1722627000@frimleytennisclub.org
SUMMARY:Coaching --  'Rusty Rackets'
DESCRIPTION:This is for member’s group coaching especially aimed at those needing to hone their skills returning to tennis.   Planned to be weekly and open to all members wishing to regain those slightly ‘rusty’ tennis skills\nFor full details go to the link HERE   or call Lewis
URL:https://frimleytennisclub.org/calendar/coaching-rusty-rackets-2024-08-02/
LOCATION:Frimley Tennis Club\, Watchetts Recreation Ground\, Camberley\, Surrey\, GU15 2SR\, United Kingdom
CATEGORIES:Coaching Tennis
ORGANIZER;CN="Lewis Sullivan":MAILTO:lewis@lewistennis.net
END:VEVENT
BEGIN:VEVENT
DTSTART;TZID=Europe/London:20240803T090000
DTEND;TZID=Europe/London:20240803T120000
DTSTAMP:20260421T094720
CREATED:20230914T052042Z
LAST-MODIFIED:20230914T052042Z
UID:14051-1722675600-1722686400@frimleytennisclub.org
SUMMARY:Junior Coaching
DESCRIPTION:The Club’s coach\, Lewis Sullivan\,  conducts a series of coaching sessions for different age groups .\nFor full details go to the link HERE   or through the website coaching page
URL:https://frimleytennisclub.org/calendar/junior-coaching-2-2024-08-03/
LOCATION:Frimley Tennis Club\, Watchetts Recreation Ground\, Camberley\, Surrey\, GU15 2SR\, United Kingdom
CATEGORIES:Coaching Tennis,Junior
ORGANIZER;CN="Lewis Sullivan":MAILTO:lewis@lewistennis.net
END:VEVENT
BEGIN:VEVENT
DTSTART;TZID=Europe/London:20240804T083000
DTEND;TZID=Europe/London:20240804T103000
DTSTAMP:20260421T094720
CREATED:20230511T220157Z
LAST-MODIFIED:20230511T220157Z
UID:14052-1722760200-1722767400@frimleytennisclub.org
SUMMARY:Earlybirds -- OPEN MIXED CLUB MORNING
DESCRIPTION:Weekend club session open to all club members to complement the Wed evening session.
URL:https://frimleytennisclub.org/calendar/open-mixed-club-session-2023-07-23-2023-08-06-2024-08-04/
LOCATION:Frimley Tennis Club\, Watchetts Recreation Ground\, Camberley\, Surrey\, GU15 2SR\, United Kingdom
CATEGORIES:Mixed,Social,Tennis
END:VEVENT
BEGIN:VEVENT
DTSTART;TZID=Europe/London:20240805T130000
DTEND;TZID=Europe/London:20240805T150000
DTSTAMP:20260421T094720
CREATED:20230514T235105Z
LAST-MODIFIED:20230514T235105Z
UID:14053-1722862800-1722870000@frimleytennisclub.org
SUMMARY:Social Mixed Tennis
DESCRIPTION:Open to all club members able to play mid-afternoon
URL:https://frimleytennisclub.org/calendar/social-mixed-tennis-2024-08-05/
LOCATION:Frimley Tennis Club\, Watchetts Recreation Ground\, Camberley\, Surrey\, GU15 2SR\, United Kingdom
ORGANIZER;CN="Iain Finnie":MAILTO:iain.finnie@googlemail.com
END:VEVENT
BEGIN:VEVENT
DTSTART;TZID=Europe/London:20240806T100000
DTEND;TZID=Europe/London:20240806T120000
DTSTAMP:20260421T094720
CREATED:20220823T101117Z
LAST-MODIFIED:20220823T101117Z
UID:14054-1722938400-1722945600@frimleytennisclub.org
SUMMARY:Mens Tennis Morning
DESCRIPTION:Mens Social Tennis\nOpen to all men to enjoy some social tennis and often followed by a pitstop at a pub!
URL:https://frimleytennisclub.org/calendar/mens-tennis-2024-08-06/
LOCATION:Frimley Tennis Club\, Watchetts Recreation Ground\, Camberley\, Surrey\, GU15 2SR\, United Kingdom
CATEGORIES:Men's,Social,Tennis
ORGANIZER;CN="Iain Finnie":MAILTO:iain.finnie@googlemail.com
END:VEVENT
BEGIN:VEVENT
DTSTART;TZID=Europe/London:20240807T130000
DTEND;TZID=Europe/London:20240807T150000
DTSTAMP:20260421T094720
CREATED:20230514T235105Z
LAST-MODIFIED:20230514T235105Z
UID:14055-1723035600-1723042800@frimleytennisclub.org
SUMMARY:Social Mixed Tennis
DESCRIPTION:Open to all club members able to play mid-afternoon
URL:https://frimleytennisclub.org/calendar/social-mixed-tennis-2024-08-07/
LOCATION:Frimley Tennis Club\, Watchetts Recreation Ground\, Camberley\, Surrey\, GU15 2SR\, United Kingdom
ORGANIZER;CN="Iain Finnie":MAILTO:iain.finnie@googlemail.com
END:VEVENT
BEGIN:VEVENT
DTSTART;TZID=Europe/London:20240808T183000
DTEND;TZID=Europe/London:20240808T193000
DTSTAMP:20260421T094720
CREATED:20230914T053028Z
LAST-MODIFIED:20230914T053028Z
UID:14056-1723141800-1723145400@frimleytennisclub.org
SUMMARY:Coaching --  Adult Improvers
DESCRIPTION:This is for member’s group coaching to improve your game.   Planned to be weekly and open to all members who feel that coaching could improve their tennis skills\nFor full details go to the link HERE   or call Lewis
URL:https://frimleytennisclub.org/calendar/coaching-adult-improvers-2024-08-08/
LOCATION:Frimley Tennis Club\, Watchetts Recreation Ground\, Camberley\, Surrey\, GU15 2SR\, United Kingdom
CATEGORIES:Coaching Tennis
ORGANIZER;CN="Lewis Sullivan":MAILTO:lewis@lewistennis.net
END:VEVENT
BEGIN:VEVENT
DTSTART;TZID=Europe/London:20240809T130000
DTEND;TZID=Europe/London:20240809T150000
DTSTAMP:20260421T094720
CREATED:20230514T235105Z
LAST-MODIFIED:20230514T235105Z
UID:14057-1723208400-1723215600@frimleytennisclub.org
SUMMARY:Social Mixed Tennis
DESCRIPTION:Open to all club members able to play mid-afternoon
URL:https://frimleytennisclub.org/calendar/social-mixed-tennis-2024-08-09/
LOCATION:Frimley Tennis Club\, Watchetts Recreation Ground\, Camberley\, Surrey\, GU15 2SR\, United Kingdom
ORGANIZER;CN="Iain Finnie":MAILTO:iain.finnie@googlemail.com
END:VEVENT
BEGIN:VEVENT
DTSTART;TZID=Europe/London:20240809T183000
DTEND;TZID=Europe/London:20240809T193000
DTSTAMP:20260421T094720
CREATED:20230914T053715Z
LAST-MODIFIED:20230914T053715Z
UID:14058-1723228200-1723231800@frimleytennisclub.org
SUMMARY:Coaching --  'Rusty Rackets'
DESCRIPTION:This is for member’s group coaching especially aimed at those needing to hone their skills returning to tennis.   Planned to be weekly and open to all members wishing to regain those slightly ‘rusty’ tennis skills\nFor full details go to the link HERE   or call Lewis
URL:https://frimleytennisclub.org/calendar/coaching-rusty-rackets-2024-08-09/
LOCATION:Frimley Tennis Club\, Watchetts Recreation Ground\, Camberley\, Surrey\, GU15 2SR\, United Kingdom
CATEGORIES:Coaching Tennis
ORGANIZER;CN="Lewis Sullivan":MAILTO:lewis@lewistennis.net
END:VEVENT
BEGIN:VEVENT
DTSTART;TZID=Europe/London:20240810T090000
DTEND;TZID=Europe/London:20240810T120000
DTSTAMP:20260421T094720
CREATED:20230914T052042Z
LAST-MODIFIED:20230914T052042Z
UID:14059-1723280400-1723291200@frimleytennisclub.org
SUMMARY:Junior Coaching
DESCRIPTION:The Club’s coach\, Lewis Sullivan\,  conducts a series of coaching sessions for different age groups .\nFor full details go to the link HERE   or through the website coaching page
URL:https://frimleytennisclub.org/calendar/junior-coaching-2-2024-08-10/
LOCATION:Frimley Tennis Club\, Watchetts Recreation Ground\, Camberley\, Surrey\, GU15 2SR\, United Kingdom
CATEGORIES:Coaching Tennis,Junior
ORGANIZER;CN="Lewis Sullivan":MAILTO:lewis@lewistennis.net
END:VEVENT
BEGIN:VEVENT
DTSTART;TZID=Europe/London:20240811T083000
DTEND;TZID=Europe/London:20240811T103000
DTSTAMP:20260421T094720
CREATED:20230511T220157Z
LAST-MODIFIED:20230511T220157Z
UID:14060-1723365000-1723372200@frimleytennisclub.org
SUMMARY:Earlybirds -- OPEN MIXED CLUB MORNING
DESCRIPTION:Weekend club session open to all club members to complement the Wed evening session.
URL:https://frimleytennisclub.org/calendar/open-mixed-club-session-2023-07-23-2023-08-06-2024-08-11/
LOCATION:Frimley Tennis Club\, Watchetts Recreation Ground\, Camberley\, Surrey\, GU15 2SR\, United Kingdom
CATEGORIES:Mixed,Social,Tennis
END:VEVENT
BEGIN:VEVENT
DTSTART;TZID=Europe/London:20240812T130000
DTEND;TZID=Europe/London:20240812T150000
DTSTAMP:20260421T094720
CREATED:20230514T235105Z
LAST-MODIFIED:20230514T235105Z
UID:14061-1723467600-1723474800@frimleytennisclub.org
SUMMARY:Social Mixed Tennis
DESCRIPTION:Open to all club members able to play mid-afternoon
URL:https://frimleytennisclub.org/calendar/social-mixed-tennis-2024-08-12/
LOCATION:Frimley Tennis Club\, Watchetts Recreation Ground\, Camberley\, Surrey\, GU15 2SR\, United Kingdom
ORGANIZER;CN="Iain Finnie":MAILTO:iain.finnie@googlemail.com
END:VEVENT
BEGIN:VEVENT
DTSTART;TZID=Europe/London:20240813T100000
DTEND;TZID=Europe/London:20240813T120000
DTSTAMP:20260421T094720
CREATED:20220823T101117Z
LAST-MODIFIED:20220823T101117Z
UID:14062-1723543200-1723550400@frimleytennisclub.org
SUMMARY:Mens Tennis Morning
DESCRIPTION:Mens Social Tennis\nOpen to all men to enjoy some social tennis and often followed by a pitstop at a pub!
URL:https://frimleytennisclub.org/calendar/mens-tennis-2024-08-13/
LOCATION:Frimley Tennis Club\, Watchetts Recreation Ground\, Camberley\, Surrey\, GU15 2SR\, United Kingdom
CATEGORIES:Men's,Social,Tennis
ORGANIZER;CN="Iain Finnie":MAILTO:iain.finnie@googlemail.com
END:VEVENT
BEGIN:VEVENT
DTSTART;TZID=Europe/London:20240814T130000
DTEND;TZID=Europe/London:20240814T150000
DTSTAMP:20260421T094720
CREATED:20230514T235105Z
LAST-MODIFIED:20230514T235105Z
UID:14063-1723640400-1723647600@frimleytennisclub.org
SUMMARY:Social Mixed Tennis
DESCRIPTION:Open to all club members able to play mid-afternoon
URL:https://frimleytennisclub.org/calendar/social-mixed-tennis-2024-08-14/
LOCATION:Frimley Tennis Club\, Watchetts Recreation Ground\, Camberley\, Surrey\, GU15 2SR\, United Kingdom
ORGANIZER;CN="Iain Finnie":MAILTO:iain.finnie@googlemail.com
END:VEVENT
BEGIN:VEVENT
DTSTART;TZID=Europe/London:20240815T183000
DTEND;TZID=Europe/London:20240815T193000
DTSTAMP:20260421T094720
CREATED:20230914T053028Z
LAST-MODIFIED:20230914T053028Z
UID:14064-1723746600-1723750200@frimleytennisclub.org
SUMMARY:Coaching --  Adult Improvers
DESCRIPTION:This is for member’s group coaching to improve your game.   Planned to be weekly and open to all members who feel that coaching could improve their tennis skills\nFor full details go to the link HERE   or call Lewis
URL:https://frimleytennisclub.org/calendar/coaching-adult-improvers-2024-08-15/
LOCATION:Frimley Tennis Club\, Watchetts Recreation Ground\, Camberley\, Surrey\, GU15 2SR\, United Kingdom
CATEGORIES:Coaching Tennis
ORGANIZER;CN="Lewis Sullivan":MAILTO:lewis@lewistennis.net
END:VEVENT
BEGIN:VEVENT
DTSTART;TZID=Europe/London:20240816T130000
DTEND;TZID=Europe/London:20240816T150000
DTSTAMP:20260421T094720
CREATED:20230514T235105Z
LAST-MODIFIED:20230514T235105Z
UID:14069-1723813200-1723820400@frimleytennisclub.org
SUMMARY:Social Mixed Tennis
DESCRIPTION:Open to all club members able to play mid-afternoon
URL:https://frimleytennisclub.org/calendar/social-mixed-tennis-2024-08-16/
LOCATION:Frimley Tennis Club\, Watchetts Recreation Ground\, Camberley\, Surrey\, GU15 2SR\, United Kingdom
ORGANIZER;CN="Iain Finnie":MAILTO:iain.finnie@googlemail.com
END:VEVENT
BEGIN:VEVENT
DTSTART;TZID=Europe/London:20240816T183000
DTEND;TZID=Europe/London:20240816T193000
DTSTAMP:20260421T094720
CREATED:20230914T053715Z
LAST-MODIFIED:20230914T053715Z
UID:14070-1723833000-1723836600@frimleytennisclub.org
SUMMARY:Coaching --  'Rusty Rackets'
DESCRIPTION:This is for member’s group coaching especially aimed at those needing to hone their skills returning to tennis.   Planned to be weekly and open to all members wishing to regain those slightly ‘rusty’ tennis skills\nFor full details go to the link HERE   or call Lewis
URL:https://frimleytennisclub.org/calendar/coaching-rusty-rackets-2024-08-16/
LOCATION:Frimley Tennis Club\, Watchetts Recreation Ground\, Camberley\, Surrey\, GU15 2SR\, United Kingdom
CATEGORIES:Coaching Tennis
ORGANIZER;CN="Lewis Sullivan":MAILTO:lewis@lewistennis.net
END:VEVENT
BEGIN:VEVENT
DTSTART;TZID=Europe/London:20240817T090000
DTEND;TZID=Europe/London:20240817T120000
DTSTAMP:20260421T094720
CREATED:20230914T052042Z
LAST-MODIFIED:20230914T052042Z
UID:14071-1723885200-1723896000@frimleytennisclub.org
SUMMARY:Junior Coaching
DESCRIPTION:The Club’s coach\, Lewis Sullivan\,  conducts a series of coaching sessions for different age groups .\nFor full details go to the link HERE   or through the website coaching page
URL:https://frimleytennisclub.org/calendar/junior-coaching-2-2024-08-17/
LOCATION:Frimley Tennis Club\, Watchetts Recreation Ground\, Camberley\, Surrey\, GU15 2SR\, United Kingdom
CATEGORIES:Coaching Tennis,Junior
ORGANIZER;CN="Lewis Sullivan":MAILTO:lewis@lewistennis.net
END:VEVENT
BEGIN:VEVENT
DTSTART;TZID=Europe/London:20240818T083000
DTEND;TZID=Europe/London:20240818T103000
DTSTAMP:20260421T094720
CREATED:20230511T220157Z
LAST-MODIFIED:20230511T220157Z
UID:14072-1723969800-1723977000@frimleytennisclub.org
SUMMARY:Earlybirds -- OPEN MIXED CLUB MORNING
DESCRIPTION:Weekend club session open to all club members to complement the Wed evening session.
URL:https://frimleytennisclub.org/calendar/open-mixed-club-session-2023-07-23-2023-08-06-2024-08-18/
LOCATION:Frimley Tennis Club\, Watchetts Recreation Ground\, Camberley\, Surrey\, GU15 2SR\, United Kingdom
CATEGORIES:Mixed,Social,Tennis
END:VEVENT
BEGIN:VEVENT
DTSTART;TZID=Europe/London:20240819T130000
DTEND;TZID=Europe/London:20240819T150000
DTSTAMP:20260421T094720
CREATED:20230514T235105Z
LAST-MODIFIED:20230514T235105Z
UID:14073-1724072400-1724079600@frimleytennisclub.org
SUMMARY:Social Mixed Tennis
DESCRIPTION:Open to all club members able to play mid-afternoon
URL:https://frimleytennisclub.org/calendar/social-mixed-tennis-2024-08-19/
LOCATION:Frimley Tennis Club\, Watchetts Recreation Ground\, Camberley\, Surrey\, GU15 2SR\, United Kingdom
ORGANIZER;CN="Iain Finnie":MAILTO:iain.finnie@googlemail.com
END:VEVENT
BEGIN:VEVENT
DTSTART;TZID=Europe/London:20240820T100000
DTEND;TZID=Europe/London:20240820T120000
DTSTAMP:20260421T094720
CREATED:20220823T101117Z
LAST-MODIFIED:20220823T101117Z
UID:14074-1724148000-1724155200@frimleytennisclub.org
SUMMARY:Mens Tennis Morning
DESCRIPTION:Mens Social Tennis\nOpen to all men to enjoy some social tennis and often followed by a pitstop at a pub!
URL:https://frimleytennisclub.org/calendar/mens-tennis-2024-08-20/
LOCATION:Frimley Tennis Club\, Watchetts Recreation Ground\, Camberley\, Surrey\, GU15 2SR\, United Kingdom
CATEGORIES:Men's,Social,Tennis
ORGANIZER;CN="Iain Finnie":MAILTO:iain.finnie@googlemail.com
END:VEVENT
BEGIN:VEVENT
DTSTART;TZID=Europe/London:20240821T130000
DTEND;TZID=Europe/London:20240821T150000
DTSTAMP:20260421T094720
CREATED:20230514T235105Z
LAST-MODIFIED:20230514T235105Z
UID:14075-1724245200-1724252400@frimleytennisclub.org
SUMMARY:Social Mixed Tennis
DESCRIPTION:Open to all club members able to play mid-afternoon
URL:https://frimleytennisclub.org/calendar/social-mixed-tennis-2024-08-21/
LOCATION:Frimley Tennis Club\, Watchetts Recreation Ground\, Camberley\, Surrey\, GU15 2SR\, United Kingdom
ORGANIZER;CN="Iain Finnie":MAILTO:iain.finnie@googlemail.com
END:VEVENT
BEGIN:VEVENT
DTSTART;TZID=Europe/London:20240822T183000
DTEND;TZID=Europe/London:20240822T193000
DTSTAMP:20260421T094720
CREATED:20230914T053028Z
LAST-MODIFIED:20230914T053028Z
UID:14076-1724351400-1724355000@frimleytennisclub.org
SUMMARY:Coaching --  Adult Improvers
DESCRIPTION:This is for member’s group coaching to improve your game.   Planned to be weekly and open to all members who feel that coaching could improve their tennis skills\nFor full details go to the link HERE   or call Lewis
URL:https://frimleytennisclub.org/calendar/coaching-adult-improvers-2024-08-22/
LOCATION:Frimley Tennis Club\, Watchetts Recreation Ground\, Camberley\, Surrey\, GU15 2SR\, United Kingdom
CATEGORIES:Coaching Tennis
ORGANIZER;CN="Lewis Sullivan":MAILTO:lewis@lewistennis.net
END:VEVENT
BEGIN:VEVENT
DTSTART;TZID=Europe/London:20240823T130000
DTEND;TZID=Europe/London:20240823T150000
DTSTAMP:20260421T094720
CREATED:20230514T235105Z
LAST-MODIFIED:20230514T235105Z
UID:14077-1724418000-1724425200@frimleytennisclub.org
SUMMARY:Social Mixed Tennis
DESCRIPTION:Open to all club members able to play mid-afternoon
URL:https://frimleytennisclub.org/calendar/social-mixed-tennis-2024-08-23/
LOCATION:Frimley Tennis Club\, Watchetts Recreation Ground\, Camberley\, Surrey\, GU15 2SR\, United Kingdom
ORGANIZER;CN="Iain Finnie":MAILTO:iain.finnie@googlemail.com
END:VEVENT
BEGIN:VEVENT
DTSTART;TZID=Europe/London:20240823T183000
DTEND;TZID=Europe/London:20240823T193000
DTSTAMP:20260421T094720
CREATED:20230914T053715Z
LAST-MODIFIED:20230914T053715Z
UID:14078-1724437800-1724441400@frimleytennisclub.org
SUMMARY:Coaching --  'Rusty Rackets'
DESCRIPTION:This is for member’s group coaching especially aimed at those needing to hone their skills returning to tennis.   Planned to be weekly and open to all members wishing to regain those slightly ‘rusty’ tennis skills\nFor full details go to the link HERE   or call Lewis
URL:https://frimleytennisclub.org/calendar/coaching-rusty-rackets-2024-08-23/
LOCATION:Frimley Tennis Club\, Watchetts Recreation Ground\, Camberley\, Surrey\, GU15 2SR\, United Kingdom
CATEGORIES:Coaching Tennis
ORGANIZER;CN="Lewis Sullivan":MAILTO:lewis@lewistennis.net
END:VEVENT
BEGIN:VEVENT
DTSTART;TZID=Europe/London:20240824T090000
DTEND;TZID=Europe/London:20240824T120000
DTSTAMP:20260421T094720
CREATED:20230914T052042Z
LAST-MODIFIED:20230914T052042Z
UID:14079-1724490000-1724500800@frimleytennisclub.org
SUMMARY:Junior Coaching
DESCRIPTION:The Club’s coach\, Lewis Sullivan\,  conducts a series of coaching sessions for different age groups .\nFor full details go to the link HERE   or through the website coaching page
URL:https://frimleytennisclub.org/calendar/junior-coaching-2-2024-08-24/
LOCATION:Frimley Tennis Club\, Watchetts Recreation Ground\, Camberley\, Surrey\, GU15 2SR\, United Kingdom
CATEGORIES:Coaching Tennis,Junior
ORGANIZER;CN="Lewis Sullivan":MAILTO:lewis@lewistennis.net
END:VEVENT
BEGIN:VEVENT
DTSTART;TZID=Europe/London:20240825T083000
DTEND;TZID=Europe/London:20240825T103000
DTSTAMP:20260421T094720
CREATED:20230511T220157Z
LAST-MODIFIED:20230511T220157Z
UID:14080-1724574600-1724581800@frimleytennisclub.org
SUMMARY:Earlybirds -- OPEN MIXED CLUB MORNING
DESCRIPTION:Weekend club session open to all club members to complement the Wed evening session.
URL:https://frimleytennisclub.org/calendar/open-mixed-club-session-2023-07-23-2023-08-06-2024-08-25/
LOCATION:Frimley Tennis Club\, Watchetts Recreation Ground\, Camberley\, Surrey\, GU15 2SR\, United Kingdom
CATEGORIES:Mixed,Social,Tennis
END:VEVENT
BEGIN:VEVENT
DTSTART;TZID=Europe/London:20240826T130000
DTEND;TZID=Europe/London:20240826T150000
DTSTAMP:20260421T094720
CREATED:20230514T235105Z
LAST-MODIFIED:20230514T235105Z
UID:14081-1724677200-1724684400@frimleytennisclub.org
SUMMARY:Social Mixed Tennis
DESCRIPTION:Open to all club members able to play mid-afternoon
URL:https://frimleytennisclub.org/calendar/social-mixed-tennis-2024-08-26/
LOCATION:Frimley Tennis Club\, Watchetts Recreation Ground\, Camberley\, Surrey\, GU15 2SR\, United Kingdom
ORGANIZER;CN="Iain Finnie":MAILTO:iain.finnie@googlemail.com
END:VEVENT
BEGIN:VEVENT
DTSTART;TZID=Europe/London:20260122T183000
DTEND;TZID=Europe/London:20260122T220000
DTSTAMP:20260421T094720
CREATED:20251127T214630Z
LAST-MODIFIED:20251127T214630Z
UID:14929-1769106600-1769119200@frimleytennisclub.org
SUMMARY:Mixed A vs West Surrey -- Away
DESCRIPTION:League Fixture
URL:https://frimleytennisclub.org/calendar/mixed-a-vs-west-surrey-away/
LOCATION:West  Surrey Tennis Club\, Station Ln\,\, Godalming\, GU8 5AF\, United Kingdom
END:VEVENT
END:VCALENDAR