BEGIN:VCALENDAR
VERSION:2.0
PRODID:-//FTC - ECPv6.15.17.1//NONSGML v1.0//EN
CALSCALE:GREGORIAN
METHOD:PUBLISH
X-ORIGINAL-URL:https://frimleytennisclub.org
X-WR-CALDESC:Events for FTC
REFRESH-INTERVAL;VALUE=DURATION:PT1H
X-Robots-Tag:noindex
X-PUBLISHED-TTL:PT1H
BEGIN:VTIMEZONE
TZID:Europe/London
BEGIN:DAYLIGHT
TZOFFSETFROM:+0000
TZOFFSETTO:+0100
TZNAME:BST
DTSTART:20230326T010000
END:DAYLIGHT
BEGIN:STANDARD
TZOFFSETFROM:+0100
TZOFFSETTO:+0000
TZNAME:GMT
DTSTART:20231029T010000
END:STANDARD
BEGIN:DAYLIGHT
TZOFFSETFROM:+0000
TZOFFSETTO:+0100
TZNAME:BST
DTSTART:20240331T010000
END:DAYLIGHT
BEGIN:STANDARD
TZOFFSETFROM:+0100
TZOFFSETTO:+0000
TZNAME:GMT
DTSTART:20241027T010000
END:STANDARD
BEGIN:DAYLIGHT
TZOFFSETFROM:+0000
TZOFFSETTO:+0100
TZNAME:BST
DTSTART:20250330T010000
END:DAYLIGHT
BEGIN:STANDARD
TZOFFSETFROM:+0100
TZOFFSETTO:+0000
TZNAME:GMT
DTSTART:20251026T010000
END:STANDARD
END:VTIMEZONE
BEGIN:VEVENT
DTSTART;TZID=Europe/London:20240613T183000
DTEND;TZID=Europe/London:20240613T193000
DTSTAMP:20260421T094501
CREATED:20230914T053028Z
LAST-MODIFIED:20230914T053028Z
UID:13896-1718303400-1718307000@frimleytennisclub.org
SUMMARY:Coaching --  Adult Improvers
DESCRIPTION:This is for member’s group coaching to improve your game.   Planned to be weekly and open to all members who feel that coaching could improve their tennis skills\nFor full details go to the link HERE   or call Lewis
URL:https://frimleytennisclub.org/calendar/coaching-adult-improvers-2024-06-13/
LOCATION:Frimley Tennis Club\, Watchetts Recreation Ground\, Camberley\, Surrey\, GU15 2SR\, United Kingdom
CATEGORIES:Coaching Tennis
ORGANIZER;CN="Lewis Sullivan":MAILTO:lewis@lewistennis.net
END:VEVENT
END:VCALENDAR