BEGIN:VCALENDAR
VERSION:2.0
PRODID:-//FTC - ECPv6.15.17.1//NONSGML v1.0//EN
CALSCALE:GREGORIAN
METHOD:PUBLISH
X-WR-CALNAME:FTC
X-ORIGINAL-URL:https://frimleytennisclub.org
X-WR-CALDESC:Events for FTC
REFRESH-INTERVAL;VALUE=DURATION:PT1H
X-Robots-Tag:noindex
X-PUBLISHED-TTL:PT1H
BEGIN:VTIMEZONE
TZID:Europe/London
BEGIN:DAYLIGHT
TZOFFSETFROM:+0000
TZOFFSETTO:+0100
TZNAME:BST
DTSTART:20230326T010000
END:DAYLIGHT
BEGIN:STANDARD
TZOFFSETFROM:+0100
TZOFFSETTO:+0000
TZNAME:GMT
DTSTART:20231029T010000
END:STANDARD
BEGIN:DAYLIGHT
TZOFFSETFROM:+0000
TZOFFSETTO:+0100
TZNAME:BST
DTSTART:20240331T010000
END:DAYLIGHT
BEGIN:STANDARD
TZOFFSETFROM:+0100
TZOFFSETTO:+0000
TZNAME:GMT
DTSTART:20241027T010000
END:STANDARD
BEGIN:DAYLIGHT
TZOFFSETFROM:+0000
TZOFFSETTO:+0100
TZNAME:BST
DTSTART:20250330T010000
END:DAYLIGHT
BEGIN:STANDARD
TZOFFSETFROM:+0100
TZOFFSETTO:+0000
TZNAME:GMT
DTSTART:20251026T010000
END:STANDARD
END:VTIMEZONE
BEGIN:VEVENT
DTSTART;TZID=Europe/London:20240416T100000
DTEND;TZID=Europe/London:20240416T120000
DTSTAMP:20260422T093944
CREATED:20220823T101117Z
LAST-MODIFIED:20220823T101117Z
UID:13674-1713261600-1713268800@frimleytennisclub.org
SUMMARY:Mens Tennis Morning
DESCRIPTION:Mens Social Tennis\nOpen to all men to enjoy some social tennis and often followed by a pitstop at a pub!
URL:https://frimleytennisclub.org/calendar/mens-tennis-2024-04-16/
LOCATION:Frimley Tennis Club\, Watchetts Recreation Ground\, Camberley\, Surrey\, GU15 2SR\, United Kingdom
CATEGORIES:Men's,Social,Tennis
ORGANIZER;CN="Iain Finnie":MAILTO:iain.finnie@googlemail.com
END:VEVENT
END:VCALENDAR